BEGIN:VCALENDAR
VERSION:2.0
PRODID:spatie/icalendar-generator
NAME:DigitalTREFF / Computeria Rheintal
X-WR-CALNAME:DigitalTREFF / Computeria Rheintal
BEGIN:VTIMEZONE
TZID:Europe/Berlin
BEGIN:STANDARD
DTSTART:20251026T030000
TZOFFSETFROM:+0200
TZOFFSETTO:+0100
END:STANDARD
BEGIN:DAYLIGHT
DTSTART:20260329T030000
TZOFFSETFROM:+0100
TZOFFSETTO:+0200
END:DAYLIGHT
BEGIN:STANDARD
DTSTART:20261025T030000
TZOFFSETFROM:+0200
TZOFFSETTO:+0100
END:STANDARD
END:VTIMEZONE
BEGIN:VEVENT
UID:accc71dd-c517-5ef0-b5b3-acecd2afa25b17
DTSTAMP;TZID=Europe/Berlin:20260424T122928
SUMMARY:DigitalTREFF / Computeria Rheintal
DESCRIPTION:Die Computeria ist die Austauschplattform für Fragen rund um C
 omputer (Windows 10/11\, Apple macOS)\, Tablets\, Handys (Smartphones) mit
  Google Android und apple iOS und dem Internet. Sind Sie Der DigitalTREFF
  der Pro Senectute bietet Seniorinnen und Senioren wöchentliche Unterstü
 tzung im Umgang mit Handy\, Tablet\, Notebook\, Internet und KI und weiter
 en digitalen Themen. Teilnehmende erhalten Hilfe bei alltäglichen digital
 en Aufgaben wie dem Kauf eines ÖV-Tickets\, dem Einrichten von Apps\, dem
  Bezahlen von Parkplätzen per App\, dem Laden von Fotos auf den PC oder P
 C-Updates. Die Besuchenden unterstützen sich gegenseitig\, und digital ve
 rsierte Leitende stehen bei Fragen mit Rat und Tat zur Verfügung. Der Dig
 italTREFF fördert einen sicheren und selbstständigen Umgang mit digitale
 n Geräten und erleichtert die soziale Teilhabe im Alltag.\n\nDie Treffe
 n finden freitags von 14–16 Uhr (siehe Terminplan auf der homepage) im 
 Gruppenraum der Pro Senectute an der Bildstrasse 5 in Altstätten statt. D
 er Unkostenbeitrag beträgt Fr. 5.– pro Nachmittag.\nWeitere Informatio
 nen: Tel. 058 750 09 00.\n\n\n 
LOCATION:Bildstrasse 5\, 9450 Altstätten
STATUS:CONFIRMED
DTSTART;TZID=Europe/Berlin:20260605T140000
DTEND;TZID=Europe/Berlin:20260605T160000
GEO:47.3806832;9.5423916
X-APPLE-STRUCTURED-LOCATION;VALUE=URI;X-ADDRESS=Bildstrasse 5\, 9450 Altst
 ätten;X-APPLE-RADIUS=72;X-TITLE=Pro Senectute Rheintal Werdenberg Sargans
 erland:geo:47.3806832,9.5423916
END:VEVENT
END:VCALENDAR