BEGIN:VCALENDAR
VERSION:2.0
PRODID:spatie/icalendar-generator
NAME:Sunntigs Gnuss
X-WR-CALNAME:Sunntigs Gnuss
BEGIN:VTIMEZONE
TZID:Europe/Berlin
BEGIN:STANDARD
DTSTART:20251026T030000
TZOFFSETFROM:+0200
TZOFFSETTO:+0100
END:STANDARD
BEGIN:DAYLIGHT
DTSTART:20260329T030000
TZOFFSETFROM:+0100
TZOFFSETTO:+0200
END:DAYLIGHT
BEGIN:STANDARD
DTSTART:20261025T030000
TZOFFSETFROM:+0200
TZOFFSETTO:+0100
END:STANDARD
END:VTIMEZONE
BEGIN:VEVENT
UID:97473aa5-f8ac-5fbd-97d9-b4cbaf58b8005
DTSTAMP;TZID=Europe/Berlin:20260422T122826
SUMMARY:Sunntigs Gnuss
DESCRIPTION:Zu einem gemütlichen Beisammensein sind Seniorinnen und Senior
 en eingeladen\, die den Sonntag gerne in ungezwungener Gesellschaft\, bei 
 Kaffee und Kuchen\, einem Jass oder anderen Gesellschaftsspielen\, beim ge
 meinsamen Filmschauen oder einfach bei einem guten Gespräch\, geniessen m
 öchten.\nTermine: sonntags\,04.01.2026 um 14:00 bis 16:00 Uhr: Kaffee un
 d Kuchen\n01.02.2026 um 14:00 bis 16:00 Uhr: Kaffee und Kuchen\n01.03.20
 26 um 14:00 bis 16:00 Uhr: Kaffee und Kuchen\n29.03.2026 um 11:00 bis 13:
 00 Uhr: zMo-zMi (Brunch) - Anmeldung erbeten\, CHF 10.00\n03.05.2026 um 1
 4:00 bis 16:00 Uhr: Kaffee und Kuchen\n07.06.2026 um 11:00 bis 13:00 Uhr:
  zMo-zMi (Brunch) - Anmeldung erbeten\, CHF 10.00
LOCATION:Bildstrasse 5\, 9450 Altstätten
STATUS:CONFIRMED
DTSTART;TZID=Europe/Berlin:20260607T110000
DTEND;TZID=Europe/Berlin:20260607T130000
GEO:47.3806832;9.5423916
X-APPLE-STRUCTURED-LOCATION;VALUE=URI;X-ADDRESS=Bildstrasse 5\, 9450 Altst
 ätten;X-APPLE-RADIUS=72;X-TITLE=Pro Senectute Rheintal Werdenberg Sargans
 erland:geo:47.3806832,9.5423916
END:VEVENT
END:VCALENDAR