BEGIN:VCALENDAR
VERSION:2.0
PRODID:spatie/icalendar-generator
NAME:Yoga - Kraft und Ruhe aus der Mitte
X-WR-CALNAME:Yoga - Kraft und Ruhe aus der Mitte
BEGIN:VTIMEZONE
TZID:Europe/Berlin
BEGIN:STANDARD
DTSTART:20251026T030000
TZOFFSETFROM:+0200
TZOFFSETTO:+0100
END:STANDARD
BEGIN:DAYLIGHT
DTSTART:20260329T030000
TZOFFSETFROM:+0100
TZOFFSETTO:+0200
END:DAYLIGHT
BEGIN:STANDARD
DTSTART:20261025T030000
TZOFFSETFROM:+0200
TZOFFSETTO:+0100
END:STANDARD
END:VTIMEZONE
BEGIN:VEVENT
UID:81f281ff-c646-5a10-9f96-5eceff10242c1
DTSTAMP;TZID=Europe/Berlin:20260424T123948
SUMMARY:Yoga - Kraft und Ruhe aus der Mitte
DESCRIPTION:Mit einer ausgewogenen Kombination aus klassischen Yoga-Positio
 nen und fliessenden Bewegungsabläufen wird mehr Kraft und grössere Beweg
 lichkeit erlangt und ein harmonisches Körpergefühl entsteht. Gleichzeiti
 g kommen die Gedanken zur Ruhe. Durch bewusste Konzentration auf den Atem 
 werden innere Anspannungen gelöst und neue Energie aufgenommen. \nAlle 
 Übungen können individuell an die Bedürfnisse und Möglichkeiten der Te
 ilnehmenden\, ohne Leistungsdruck in entspannter Atmosphäre angepasst wer
 den.\nDurch positive Affirmationen\, Tiefenentspannung und einfache Medit
 ationen finden die Teilnehmenden ihre eigene Mitte eine Quelle der Ruhe un
 d Kraft.
LOCATION:Auerstrasse 25\, 9435 Heerbrugg
STATUS:CONFIRMED
DTSTART;TZID=Europe/Berlin:20260428T090000
DTEND;TZID=Europe/Berlin:20260428T103000
GEO:47.4265249;9.6162188
X-APPLE-STRUCTURED-LOCATION;VALUE=URI;X-ADDRESS=Auerstrasse 25\, 9435 Heerb
 rugg;X-APPLE-RADIUS=72;X-TITLE=ZentRuum\, Begegnungszentrum Au/Heerbrugg:g
 eo:47.4265249,9.6162188
END:VEVENT
BEGIN:VEVENT
UID:81f281ff-c646-5a10-9f96-5eceff10242c2
DTSTAMP;TZID=Europe/Berlin:20260424T123948
SUMMARY:Yoga - Kraft und Ruhe aus der Mitte
DESCRIPTION:Mit einer ausgewogenen Kombination aus klassischen Yoga-Positio
 nen und fliessenden Bewegungsabläufen wird mehr Kraft und grössere Beweg
 lichkeit erlangt und ein harmonisches Körpergefühl entsteht. Gleichzeiti
 g kommen die Gedanken zur Ruhe. Durch bewusste Konzentration auf den Atem 
 werden innere Anspannungen gelöst und neue Energie aufgenommen. \nAlle 
 Übungen können individuell an die Bedürfnisse und Möglichkeiten der Te
 ilnehmenden\, ohne Leistungsdruck in entspannter Atmosphäre angepasst wer
 den.\nDurch positive Affirmationen\, Tiefenentspannung und einfache Medit
 ationen finden die Teilnehmenden ihre eigene Mitte eine Quelle der Ruhe un
 d Kraft.
LOCATION:Auerstrasse 25\, 9435 Heerbrugg
STATUS:CONFIRMED
DTSTART;TZID=Europe/Berlin:20260505T090000
DTEND;TZID=Europe/Berlin:20260505T103000
GEO:47.4265249;9.6162188
X-APPLE-STRUCTURED-LOCATION;VALUE=URI;X-ADDRESS=Auerstrasse 25\, 9435 Heerb
 rugg;X-APPLE-RADIUS=72;X-TITLE=ZentRuum\, Begegnungszentrum Au/Heerbrugg:g
 eo:47.4265249,9.6162188
END:VEVENT
BEGIN:VEVENT
UID:81f281ff-c646-5a10-9f96-5eceff10242c3
DTSTAMP;TZID=Europe/Berlin:20260424T123948
SUMMARY:Yoga - Kraft und Ruhe aus der Mitte
DESCRIPTION:Mit einer ausgewogenen Kombination aus klassischen Yoga-Positio
 nen und fliessenden Bewegungsabläufen wird mehr Kraft und grössere Beweg
 lichkeit erlangt und ein harmonisches Körpergefühl entsteht. Gleichzeiti
 g kommen die Gedanken zur Ruhe. Durch bewusste Konzentration auf den Atem 
 werden innere Anspannungen gelöst und neue Energie aufgenommen. \nAlle 
 Übungen können individuell an die Bedürfnisse und Möglichkeiten der Te
 ilnehmenden\, ohne Leistungsdruck in entspannter Atmosphäre angepasst wer
 den.\nDurch positive Affirmationen\, Tiefenentspannung und einfache Medit
 ationen finden die Teilnehmenden ihre eigene Mitte eine Quelle der Ruhe un
 d Kraft.
LOCATION:Auerstrasse 25\, 9435 Heerbrugg
STATUS:CONFIRMED
DTSTART;TZID=Europe/Berlin:20260512T090000
DTEND;TZID=Europe/Berlin:20260512T103000
GEO:47.4265249;9.6162188
X-APPLE-STRUCTURED-LOCATION;VALUE=URI;X-ADDRESS=Auerstrasse 25\, 9435 Heerb
 rugg;X-APPLE-RADIUS=72;X-TITLE=ZentRuum\, Begegnungszentrum Au/Heerbrugg:g
 eo:47.4265249,9.6162188
END:VEVENT
BEGIN:VEVENT
UID:81f281ff-c646-5a10-9f96-5eceff10242c4
DTSTAMP;TZID=Europe/Berlin:20260424T123948
SUMMARY:Yoga - Kraft und Ruhe aus der Mitte
DESCRIPTION:Mit einer ausgewogenen Kombination aus klassischen Yoga-Positio
 nen und fliessenden Bewegungsabläufen wird mehr Kraft und grössere Beweg
 lichkeit erlangt und ein harmonisches Körpergefühl entsteht. Gleichzeiti
 g kommen die Gedanken zur Ruhe. Durch bewusste Konzentration auf den Atem 
 werden innere Anspannungen gelöst und neue Energie aufgenommen. \nAlle 
 Übungen können individuell an die Bedürfnisse und Möglichkeiten der Te
 ilnehmenden\, ohne Leistungsdruck in entspannter Atmosphäre angepasst wer
 den.\nDurch positive Affirmationen\, Tiefenentspannung und einfache Medit
 ationen finden die Teilnehmenden ihre eigene Mitte eine Quelle der Ruhe un
 d Kraft.
LOCATION:Auerstrasse 25\, 9435 Heerbrugg
STATUS:CONFIRMED
DTSTART;TZID=Europe/Berlin:20260519T090000
DTEND;TZID=Europe/Berlin:20260519T103000
GEO:47.4265249;9.6162188
X-APPLE-STRUCTURED-LOCATION;VALUE=URI;X-ADDRESS=Auerstrasse 25\, 9435 Heerb
 rugg;X-APPLE-RADIUS=72;X-TITLE=ZentRuum\, Begegnungszentrum Au/Heerbrugg:g
 eo:47.4265249,9.6162188
END:VEVENT
BEGIN:VEVENT
UID:81f281ff-c646-5a10-9f96-5eceff10242c5
DTSTAMP;TZID=Europe/Berlin:20260424T123948
SUMMARY:Yoga - Kraft und Ruhe aus der Mitte
DESCRIPTION:Mit einer ausgewogenen Kombination aus klassischen Yoga-Positio
 nen und fliessenden Bewegungsabläufen wird mehr Kraft und grössere Beweg
 lichkeit erlangt und ein harmonisches Körpergefühl entsteht. Gleichzeiti
 g kommen die Gedanken zur Ruhe. Durch bewusste Konzentration auf den Atem 
 werden innere Anspannungen gelöst und neue Energie aufgenommen. \nAlle 
 Übungen können individuell an die Bedürfnisse und Möglichkeiten der Te
 ilnehmenden\, ohne Leistungsdruck in entspannter Atmosphäre angepasst wer
 den.\nDurch positive Affirmationen\, Tiefenentspannung und einfache Medit
 ationen finden die Teilnehmenden ihre eigene Mitte eine Quelle der Ruhe un
 d Kraft.
LOCATION:Auerstrasse 25\, 9435 Heerbrugg
STATUS:CONFIRMED
DTSTART;TZID=Europe/Berlin:20260526T090000
DTEND;TZID=Europe/Berlin:20260526T103000
GEO:47.4265249;9.6162188
X-APPLE-STRUCTURED-LOCATION;VALUE=URI;X-ADDRESS=Auerstrasse 25\, 9435 Heerb
 rugg;X-APPLE-RADIUS=72;X-TITLE=ZentRuum\, Begegnungszentrum Au/Heerbrugg:g
 eo:47.4265249,9.6162188
END:VEVENT
BEGIN:VEVENT
UID:81f281ff-c646-5a10-9f96-5eceff10242c6
DTSTAMP;TZID=Europe/Berlin:20260424T123948
SUMMARY:Yoga - Kraft und Ruhe aus der Mitte
DESCRIPTION:Mit einer ausgewogenen Kombination aus klassischen Yoga-Positio
 nen und fliessenden Bewegungsabläufen wird mehr Kraft und grössere Beweg
 lichkeit erlangt und ein harmonisches Körpergefühl entsteht. Gleichzeiti
 g kommen die Gedanken zur Ruhe. Durch bewusste Konzentration auf den Atem 
 werden innere Anspannungen gelöst und neue Energie aufgenommen. \nAlle 
 Übungen können individuell an die Bedürfnisse und Möglichkeiten der Te
 ilnehmenden\, ohne Leistungsdruck in entspannter Atmosphäre angepasst wer
 den.\nDurch positive Affirmationen\, Tiefenentspannung und einfache Medit
 ationen finden die Teilnehmenden ihre eigene Mitte eine Quelle der Ruhe un
 d Kraft.
LOCATION:Auerstrasse 25\, 9435 Heerbrugg
STATUS:CONFIRMED
DTSTART;TZID=Europe/Berlin:20260602T090000
DTEND;TZID=Europe/Berlin:20260602T103000
GEO:47.4265249;9.6162188
X-APPLE-STRUCTURED-LOCATION;VALUE=URI;X-ADDRESS=Auerstrasse 25\, 9435 Heerb
 rugg;X-APPLE-RADIUS=72;X-TITLE=ZentRuum\, Begegnungszentrum Au/Heerbrugg:g
 eo:47.4265249,9.6162188
END:VEVENT
BEGIN:VEVENT
UID:81f281ff-c646-5a10-9f96-5eceff10242c7
DTSTAMP;TZID=Europe/Berlin:20260424T123948
SUMMARY:Yoga - Kraft und Ruhe aus der Mitte
DESCRIPTION:Mit einer ausgewogenen Kombination aus klassischen Yoga-Positio
 nen und fliessenden Bewegungsabläufen wird mehr Kraft und grössere Beweg
 lichkeit erlangt und ein harmonisches Körpergefühl entsteht. Gleichzeiti
 g kommen die Gedanken zur Ruhe. Durch bewusste Konzentration auf den Atem 
 werden innere Anspannungen gelöst und neue Energie aufgenommen. \nAlle 
 Übungen können individuell an die Bedürfnisse und Möglichkeiten der Te
 ilnehmenden\, ohne Leistungsdruck in entspannter Atmosphäre angepasst wer
 den.\nDurch positive Affirmationen\, Tiefenentspannung und einfache Medit
 ationen finden die Teilnehmenden ihre eigene Mitte eine Quelle der Ruhe un
 d Kraft.
LOCATION:Auerstrasse 25\, 9435 Heerbrugg
STATUS:CONFIRMED
DTSTART;TZID=Europe/Berlin:20260609T090000
DTEND;TZID=Europe/Berlin:20260609T103000
GEO:47.4265249;9.6162188
X-APPLE-STRUCTURED-LOCATION;VALUE=URI;X-ADDRESS=Auerstrasse 25\, 9435 Heerb
 rugg;X-APPLE-RADIUS=72;X-TITLE=ZentRuum\, Begegnungszentrum Au/Heerbrugg:g
 eo:47.4265249,9.6162188
END:VEVENT
BEGIN:VEVENT
UID:81f281ff-c646-5a10-9f96-5eceff10242c8
DTSTAMP;TZID=Europe/Berlin:20260424T123948
SUMMARY:Yoga - Kraft und Ruhe aus der Mitte
DESCRIPTION:Mit einer ausgewogenen Kombination aus klassischen Yoga-Positio
 nen und fliessenden Bewegungsabläufen wird mehr Kraft und grössere Beweg
 lichkeit erlangt und ein harmonisches Körpergefühl entsteht. Gleichzeiti
 g kommen die Gedanken zur Ruhe. Durch bewusste Konzentration auf den Atem 
 werden innere Anspannungen gelöst und neue Energie aufgenommen. \nAlle 
 Übungen können individuell an die Bedürfnisse und Möglichkeiten der Te
 ilnehmenden\, ohne Leistungsdruck in entspannter Atmosphäre angepasst wer
 den.\nDurch positive Affirmationen\, Tiefenentspannung und einfache Medit
 ationen finden die Teilnehmenden ihre eigene Mitte eine Quelle der Ruhe un
 d Kraft.
LOCATION:Auerstrasse 25\, 9435 Heerbrugg
STATUS:CONFIRMED
DTSTART;TZID=Europe/Berlin:20260616T090000
DTEND;TZID=Europe/Berlin:20260616T103000
GEO:47.4265249;9.6162188
X-APPLE-STRUCTURED-LOCATION;VALUE=URI;X-ADDRESS=Auerstrasse 25\, 9435 Heerb
 rugg;X-APPLE-RADIUS=72;X-TITLE=ZentRuum\, Begegnungszentrum Au/Heerbrugg:g
 eo:47.4265249,9.6162188
END:VEVENT
BEGIN:VEVENT
UID:81f281ff-c646-5a10-9f96-5eceff10242c9
DTSTAMP;TZID=Europe/Berlin:20260424T123948
SUMMARY:Yoga - Kraft und Ruhe aus der Mitte
DESCRIPTION:Mit einer ausgewogenen Kombination aus klassischen Yoga-Positio
 nen und fliessenden Bewegungsabläufen wird mehr Kraft und grössere Beweg
 lichkeit erlangt und ein harmonisches Körpergefühl entsteht. Gleichzeiti
 g kommen die Gedanken zur Ruhe. Durch bewusste Konzentration auf den Atem 
 werden innere Anspannungen gelöst und neue Energie aufgenommen. \nAlle 
 Übungen können individuell an die Bedürfnisse und Möglichkeiten der Te
 ilnehmenden\, ohne Leistungsdruck in entspannter Atmosphäre angepasst wer
 den.\nDurch positive Affirmationen\, Tiefenentspannung und einfache Medit
 ationen finden die Teilnehmenden ihre eigene Mitte eine Quelle der Ruhe un
 d Kraft.
LOCATION:Auerstrasse 25\, 9435 Heerbrugg
STATUS:CONFIRMED
DTSTART;TZID=Europe/Berlin:20260623T090000
DTEND;TZID=Europe/Berlin:20260623T103000
GEO:47.4265249;9.6162188
X-APPLE-STRUCTURED-LOCATION;VALUE=URI;X-ADDRESS=Auerstrasse 25\, 9435 Heerb
 rugg;X-APPLE-RADIUS=72;X-TITLE=ZentRuum\, Begegnungszentrum Au/Heerbrugg:g
 eo:47.4265249,9.6162188
END:VEVENT
END:VCALENDAR