BEGIN:VCALENDAR
VERSION:2.0
PRODID:spatie/icalendar-generator
NAME:Smartphone Workshop Altstätten
X-WR-CALNAME:Smartphone Workshop Altstätten
BEGIN:VTIMEZONE
TZID:Europe/Berlin
BEGIN:STANDARD
DTSTART:20251026T030000
TZOFFSETFROM:+0200
TZOFFSETTO:+0100
END:STANDARD
BEGIN:DAYLIGHT
DTSTART:20260329T030000
TZOFFSETFROM:+0100
TZOFFSETTO:+0200
END:DAYLIGHT
BEGIN:STANDARD
DTSTART:20261025T030000
TZOFFSETFROM:+0200
TZOFFSETTO:+0100
END:STANDARD
END:VTIMEZONE
BEGIN:VEVENT
UID:5a9c1d9c-fe04-56fe-b830-41e4b5054e240
DTSTAMP;TZID=Europe/Berlin:20260422T124719
SUMMARY:Smartphone Workshop Altstätten
DESCRIPTION:Das Smartphone verbindet die Generationen. Am Anfang wirft die 
 Bedienung des Smartphones Fragen auf. An diesem Nachmittag wird jede Senio
 rin und jeder Senior von einem Jugendlichen bei der Bedienung des Smartpho
 nes unterstützt. Ziel ist es\, die mitgebrachten\, individuellen Fragen z
 u bearbeiten. Die Kursteilnehmenden profitieren von den Kenntnissen der Ju
 gendlichen und optimieren den Umgang mit dem eigenen Smartphone.
LOCATION:Städlenstrasse 14\, 9450 Altstätten
STATUS:CONFIRMED
DTSTART;TZID=Europe/Berlin:20260429T140000
DTEND;TZID=Europe/Berlin:20260429T153000
GEO:47.3778714;9.5443363
X-APPLE-STRUCTURED-LOCATION;VALUE=URI;X-ADDRESS=Städlenstrasse 14\, 9450 A
 ltstätten;X-APPLE-RADIUS=72;X-TITLE=Jugendtreff:geo:47.3778714,9.5443363
END:VEVENT
END:VCALENDAR