BEGIN:VCALENDAR
VERSION:2.0
PRODID:spatie/icalendar-generator
NAME:iPhone - Grundlagen kennen
X-WR-CALNAME:iPhone - Grundlagen kennen
BEGIN:VTIMEZONE
TZID:Europe/Berlin
BEGIN:STANDARD
DTSTART:20251026T030000
TZOFFSETFROM:+0200
TZOFFSETTO:+0100
END:STANDARD
BEGIN:DAYLIGHT
DTSTART:20260329T030000
TZOFFSETFROM:+0100
TZOFFSETTO:+0200
END:DAYLIGHT
BEGIN:STANDARD
DTSTART:20261025T030000
TZOFFSETFROM:+0200
TZOFFSETTO:+0100
END:STANDARD
END:VTIMEZONE
BEGIN:VEVENT
UID:da8071dc-6ddb-5bb5-8b30-12424894e8001
DTSTAMP;TZID=Europe/Berlin:20260424T114912
SUMMARY:iPhone - Grundlagen kennen
DESCRIPTION:In diesem Kurs werden in angenehmer Atmosphäre und ohne Hektik
  die wichtigsten Funktionen des iPhones gezeigt. Basisfunktionen wie: Ein-
  und Ausschalten (inkl. Eingabe des PIN-Codes)\, Tastenfunktionen\, direkt
 es Telefonieren und Telefonanrufe entgegennehmen\, Kontakte erstellen und 
 verwalten\, SMS- und WhatsApp-Nachrichten\, Bilder und Anrufe versenden un
 d empfangen\, Fotos bearbeiten\, sortieren und organisieren\, Notfallpass 
 einrichten und SOS-Funktion sicher nutzen\, Internetseiten ansehen\, Googl
 e-Maps: Routen planen\, Orte finden und Verkehrsinformationen in Echtzeit 
 nutzen. Ebenso werden nützliche Tipps und Tricks\, die  den Alltag unter
 stützen\, gezeigt. Ziel ist es\, mehr Sicherheit im Umgang mit dem iPhone
  als User zu bekommen.
LOCATION:Bildstrasse 5\, 9450 Altstätten
STATUS:CONFIRMED
DTSTART;TZID=Europe/Berlin:20260504T090000
DTEND;TZID=Europe/Berlin:20260504T110000
GEO:47.3806832;9.5423916
X-APPLE-STRUCTURED-LOCATION;VALUE=URI;X-ADDRESS=Bildstrasse 5\, 9450 Altst
 ätten;X-APPLE-RADIUS=72;X-TITLE=Pro Senectute Rheintal Werdenberg Sargans
 erland:geo:47.3806832,9.5423916
END:VEVENT
BEGIN:VEVENT
UID:da8071dc-6ddb-5bb5-8b30-12424894e8002
DTSTAMP;TZID=Europe/Berlin:20260424T114912
SUMMARY:iPhone - Grundlagen kennen
DESCRIPTION:In diesem Kurs werden in angenehmer Atmosphäre und ohne Hektik
  die wichtigsten Funktionen des iPhones gezeigt. Basisfunktionen wie: Ein-
  und Ausschalten (inkl. Eingabe des PIN-Codes)\, Tastenfunktionen\, direkt
 es Telefonieren und Telefonanrufe entgegennehmen\, Kontakte erstellen und 
 verwalten\, SMS- und WhatsApp-Nachrichten\, Bilder und Anrufe versenden un
 d empfangen\, Fotos bearbeiten\, sortieren und organisieren\, Notfallpass 
 einrichten und SOS-Funktion sicher nutzen\, Internetseiten ansehen\, Googl
 e-Maps: Routen planen\, Orte finden und Verkehrsinformationen in Echtzeit 
 nutzen. Ebenso werden nützliche Tipps und Tricks\, die  den Alltag unter
 stützen\, gezeigt. Ziel ist es\, mehr Sicherheit im Umgang mit dem iPhone
  als User zu bekommen.
LOCATION:Bildstrasse 5\, 9450 Altstätten
STATUS:CONFIRMED
DTSTART;TZID=Europe/Berlin:20260511T090000
DTEND;TZID=Europe/Berlin:20260511T110000
GEO:47.3806832;9.5423916
X-APPLE-STRUCTURED-LOCATION;VALUE=URI;X-ADDRESS=Bildstrasse 5\, 9450 Altst
 ätten;X-APPLE-RADIUS=72;X-TITLE=Pro Senectute Rheintal Werdenberg Sargans
 erland:geo:47.3806832,9.5423916
END:VEVENT
END:VCALENDAR