BEGIN:VCALENDAR
VERSION:2.0
PRODID:spatie/icalendar-generator
NAME:Gemeinsam Spazieren
X-WR-CALNAME:Gemeinsam Spazieren
BEGIN:VTIMEZONE
TZID:Europe/Berlin
BEGIN:STANDARD
DTSTART:20251026T030000
TZOFFSETFROM:+0200
TZOFFSETTO:+0100
END:STANDARD
BEGIN:DAYLIGHT
DTSTART:20260329T030000
TZOFFSETFROM:+0100
TZOFFSETTO:+0200
END:DAYLIGHT
BEGIN:STANDARD
DTSTART:20261025T030000
TZOFFSETFROM:+0200
TZOFFSETTO:+0100
END:STANDARD
BEGIN:DAYLIGHT
DTSTART:20270328T030000
TZOFFSETFROM:+0100
TZOFFSETTO:+0200
END:DAYLIGHT
END:VTIMEZONE
BEGIN:VEVENT
UID:027a6c59-e9bb-59cd-91a4-3d0301f1efb07
DTSTAMP;TZID=Europe/Berlin:20260424T124005
SUMMARY:Gemeinsam Spazieren
DESCRIPTION:1- bis 2-stündige Spaziergänge in flachem bis leicht hügelig
 em Gebiet mit Rastpausen. Frische Luft tanken\, ohne Stress und Anstrengun
 g dem Körper etwas zuliebe tun. Unterwegs mit alten und neuen Bekannten p
 laudern. Die Touren werden wenn möglich bei jedem Wetter durchgeführt. B
 ei ungünstiger Witterung bleibt eine Änderung der Tour vorbehalten. Eine
  Kaffeepause ist immer eingeplant.
LOCATION:Bahnhofplatz\, 9450 Altstätten
STATUS:CONFIRMED
DTSTART;TZID=Europe/Berlin:20261107T130000
DTEND;TZID=Europe/Berlin:20261107T170000
GEO:47.3700789;9.5549856
X-APPLE-STRUCTURED-LOCATION;VALUE=URI;X-ADDRESS=Bahnhofplatz\, 9450 Altstä
 tten;X-APPLE-RADIUS=72;X-TITLE=siehe Gruppenprogramm\, jeweils ab Altstät
 ten:geo:47.3700789,9.5549856
END:VEVENT
END:VCALENDAR