BEGIN:VCALENDAR
VERSION:2.0
PRODID:spatie/icalendar-generator
NAME:Aktionswoche gegen Rassismus - Hotel Ruanda
X-WR-CALNAME:Aktionswoche gegen Rassismus - Hotel Ruanda
BEGIN:VTIMEZONE
TZID:Europe/Berlin
BEGIN:STANDARD
DTSTART:20251026T030000
TZOFFSETFROM:+0200
TZOFFSETTO:+0100
END:STANDARD
BEGIN:DAYLIGHT
DTSTART:20260329T030000
TZOFFSETFROM:+0100
TZOFFSETTO:+0200
END:DAYLIGHT
BEGIN:STANDARD
DTSTART:20261025T030000
TZOFFSETFROM:+0200
TZOFFSETTO:+0100
END:STANDARD
END:VTIMEZONE
BEGIN:VEVENT
UID:a425fbac-eb03-5733-bf89-704e9482cf140
DTSTAMP;TZID=Europe/Berlin:20260423T112124
SUMMARY:Aktionswoche gegen Rassismus - Hotel Ruanda
DESCRIPTION:Vor zehn Jahren\, als Ruanda im Chaos versank\, gelobte ein Man
 n\, die Familie zu schützen\, die er liebte – und fand schliesslich den
  Mut\, mehr als 1200 Menschen zu retten. Hotel Rwanda erzählt die inspiri
 erende Geschichte des echten Helden Paul Rusesabagina (Don Cheadle)\, eine
 s Hoteldirektors in Ruanda\, der seinen Mut und seine Geschicktheit einset
 zte\, um mehr als tausend Flüchtlinge vor dem sicheren Tod zu bewahren.\
 n\nWährend der Rest der Welt die Augen verschloss\, öffnete Paul sein H
 erz und bewies\, dass ein guter Mensch einen Unterschied machen kann.\n\
 n \n\nEintritt: 10.-\n\nIm Kulturraum
LOCATION:Auerstr. 18\, 9435 Heerbrugg
STATUS:CONFIRMED
DTSTART;TZID=Europe/Berlin:20260315T180000
DTEND;TZID=Europe/Berlin:20260315T220000
GEO:47.4132059;9.6302232
X-APPLE-STRUCTURED-LOCATION;VALUE=URI;X-ADDRESS=Auerstr. 18\, 9435 Heerbrug
 g;X-APPLE-RADIUS=72;X-TITLE=Kinotheater Madlen:geo:47.4132059,9.6302232
END:VEVENT
END:VCALENDAR