BEGIN:VCALENDAR
VERSION:2.0
PRODID:spatie/icalendar-generator
NAME:Robert Betz – Was dir dein Körper sagen will
X-WR-CALNAME:Robert Betz – Was dir dein Körper sagen will
BEGIN:VTIMEZONE
TZID:Europe/Berlin
BEGIN:STANDARD
DTSTART:20251026T030000
TZOFFSETFROM:+0200
TZOFFSETTO:+0100
END:STANDARD
BEGIN:DAYLIGHT
DTSTART:20260329T030000
TZOFFSETFROM:+0100
TZOFFSETTO:+0200
END:DAYLIGHT
BEGIN:STANDARD
DTSTART:20261025T030000
TZOFFSETFROM:+0200
TZOFFSETTO:+0100
END:STANDARD
BEGIN:DAYLIGHT
DTSTART:20270328T030000
TZOFFSETFROM:+0100
TZOFFSETTO:+0200
END:DAYLIGHT
END:VTIMEZONE
BEGIN:VEVENT
UID:36a89b62-860f-5410-991d-ed07581feaed0
DTSTAMP;TZID=Europe/Berlin:20260422T105956
SUMMARY:Robert Betz – Was dir dein Körper sagen will
DESCRIPTION:Robert Betz – Was dir dein Körper sagen will\n\nVortrag\n
 \n\nSinn und Ursache von Symptomen und Krankheiten erkennen\n\nUnser K
 örper spricht jeden Tag zu uns und schickt uns Botschaften unserer Seele 
 über Empfindungen\, Symptome oder Krankheiten. Doch kaum jemand hört ihm
  zu und versteht seine Signale. Trotz aller Fortschritte in der Medizin we
 rden die Sprache und Weisheit unseres Körpers bisher weder verstanden noc
 h wertgeschätzt. Wir setzen auf das Bekämpfen\, Reparieren und Wegmachen
  des Unerwünschten anstatt auf Verstehen der wahren Zusammenhänge.\n\n
 Langsam wird immer mehr Menschen klar\, dass der bisherige Weg ein Irrweg 
 ist\, der nicht zu weniger\, sondern zu immer mehr Krankheiten und Leid f
 ührt. Lange hat der Mensch seine Macht über seinen Körper abgegeben an 
 die \"Experten\". Jetzt wird jeder Mensch vom Leben aufgefordert\, sich ei
 nem neuen Verständnis seines Körpers bzw. von Gesundheit und Krankheit z
 u öffnen und seine Schöpferverantwortung wieder in Besitz zu nehmen. Die
 ser Vortrag rüttelt wach und zeigt auf\, wie wir selbst es sind\, die Kö
 rper wie Geist gesund und vital erhalten können.\n\n \n\nTicketpreis
 : Fr. 52.— 
LOCATION:Auerstr. 18\, 9435 Heerbrugg
STATUS:CONFIRMED
DTSTART;TZID=Europe/Berlin:20270219T193000
DTEND;TZID=Europe/Berlin:20270219T223000
GEO:47.4132059;9.6302232
X-APPLE-STRUCTURED-LOCATION;VALUE=URI;X-ADDRESS=Auerstr. 18\, 9435 Heerbrug
 g;X-APPLE-RADIUS=72;X-TITLE=Kinotheater Madlen:geo:47.4132059,9.6302232
END:VEVENT
END:VCALENDAR